BEGIN:VCALENDAR
VERSION:2.0
PRODID:-//Bear Bottom Bar &amp; Grill - ECPv6.15.10//NONSGML v1.0//EN
CALSCALE:GREGORIAN
METHOD:PUBLISH
X-WR-CALNAME:Bear Bottom Bar &amp; Grill
X-ORIGINAL-URL:https://bearbottom307.com
X-WR-CALDESC:Events for Bear Bottom Bar &amp; Grill
REFRESH-INTERVAL;VALUE=DURATION:PT1H
X-Robots-Tag:noindex
X-PUBLISHED-TTL:PT1H
BEGIN:VTIMEZONE
TZID:America/Denver
BEGIN:DAYLIGHT
TZOFFSETFROM:-0700
TZOFFSETTO:-0600
TZNAME:MDT
DTSTART:20230312T090000
END:DAYLIGHT
BEGIN:STANDARD
TZOFFSETFROM:-0600
TZOFFSETTO:-0700
TZNAME:MST
DTSTART:20231105T080000
END:STANDARD
BEGIN:DAYLIGHT
TZOFFSETFROM:-0700
TZOFFSETTO:-0600
TZNAME:MDT
DTSTART:20240310T090000
END:DAYLIGHT
BEGIN:STANDARD
TZOFFSETFROM:-0600
TZOFFSETTO:-0700
TZNAME:MST
DTSTART:20241103T080000
END:STANDARD
BEGIN:DAYLIGHT
TZOFFSETFROM:-0700
TZOFFSETTO:-0600
TZNAME:MDT
DTSTART:20250309T090000
END:DAYLIGHT
BEGIN:STANDARD
TZOFFSETFROM:-0600
TZOFFSETTO:-0700
TZNAME:MST
DTSTART:20251102T080000
END:STANDARD
END:VTIMEZONE
BEGIN:VEVENT
DTSTART;TZID=America/Denver:20240825T140000
DTEND;TZID=America/Denver:20240825T170000
DTSTAMP:20260424T100138
CREATED:20240515T002643Z
LAST-MODIFIED:20240515T002643Z
UID:1076-1724594400-1724605200@bearbottom307.com
SUMMARY:Live Music: Sunday Jazz with Peter Queal and Friends
DESCRIPTION:Peter Queal and friends are back for their 21st season playing jazz at the Bear Bottom Bar and Grill! Come enjoy live music every Sunday from 2 to 5pm in the #bearbottom307 outdoor bandshell (or the indoor stage when the Wyoming weather doesn’t cooperate)!  This week enjoy Peter Queal on guitar and vocals\, Marco Barberis on drums\, and Eric Sieger on bass.
URL:https://bearbottom307.com/event/live-music-sunday-jazz-with-peter-queal-and-friends-25/
LOCATION:Bear Bottom Bar and Grill
ATTACH;FMTTYPE=image/jpeg:https://bearbottom307.com/wp-content/uploads/2024/05/1076_image_440347957_935848735216970_5483541238298702687_n.jpg
END:VEVENT
END:VCALENDAR